BEGIN:VCALENDAR
VERSION:2.0
PRODID:-//Author Caren Cantrell | Children&#039;s Author | Writer - ECPv6.15.18//NONSGML v1.0//EN
CALSCALE:GREGORIAN
METHOD:PUBLISH
X-WR-CALNAME:Author Caren Cantrell | Children&#039;s Author | Writer
X-ORIGINAL-URL:https://carencantrell.com
X-WR-CALDESC:Events for Author Caren Cantrell | Children&#039;s Author | Writer
REFRESH-INTERVAL;VALUE=DURATION:PT1H
X-Robots-Tag:noindex
X-PUBLISHED-TTL:PT1H
BEGIN:VTIMEZONE
TZID:UTC
BEGIN:STANDARD
TZOFFSETFROM:+0000
TZOFFSETTO:+0000
TZNAME:UTC
DTSTART:20170101T000000
END:STANDARD
END:VTIMEZONE
BEGIN:VEVENT
DTSTART;TZID=UTC:20180721T090000
DTEND;TZID=UTC:20180721T153000
DTSTAMP:20260423T212237
CREATED:20180524T183726Z
LAST-MODIFIED:20180524T183726Z
UID:795-1532163600-1532187000@carencantrell.com
SUMMARY:Payson Book Festival 2018
DESCRIPTION:The Payson Book Festival is brought to you by the Rim Country District Of Arizona Professional Writers (APW) and Majestic Rim Retirement Living. The mission of the Payson Book Festival is to enhance the love of reading by providing an environment that encourages personal interaction between readers and Arizona authors. Its goal is to promote literacy and showcase Arizona authors. It’s free to attend!
URL:https://carencantrell.com/event/payson-book-festival-2018/
LOCATION:Payson Book Festival\, Mazatzal Hotel and Casino\, Payson\, AZ\, 85541\, United States
CATEGORIES:Payson Book Festival
ATTACH;FMTTYPE=image/jpeg:https://carencantrell.com/wp-content/uploads/2018/05/26850338_10214809807976343_4811268854420347045_o.jpg
END:VEVENT
END:VCALENDAR