BEGIN:VCALENDAR
VERSION:2.0
PRODID:-//Author Caren Cantrell | Children&#039;s Author | Writer - ECPv6.15.18//NONSGML v1.0//EN
CALSCALE:GREGORIAN
METHOD:PUBLISH
X-ORIGINAL-URL:https://carencantrell.com
X-WR-CALDESC:Events for Author Caren Cantrell | Children&#039;s Author | Writer
REFRESH-INTERVAL;VALUE=DURATION:PT1H
X-Robots-Tag:noindex
X-PUBLISHED-TTL:PT1H
BEGIN:VTIMEZONE
TZID:UTC
BEGIN:STANDARD
TZOFFSETFROM:+0000
TZOFFSETTO:+0000
TZNAME:UTC
DTSTART:20160101T000000
END:STANDARD
END:VTIMEZONE
BEGIN:VEVENT
DTSTART;TZID=UTC:20190303T083000
DTEND;TZID=UTC:20190303T173000
DTSTAMP:20260423T163631
CREATED:20190109T210615Z
LAST-MODIFIED:20190109T210615Z
UID:833-1551601800-1551634200@carencantrell.com
SUMMARY:11th Annual Tucson Festival of Books
DESCRIPTION:March 2-3\, 2019 — We would love to see you at the eleventh annual Tucson Festival of Books! The festival is open from 9:30am to 5:30pm on The University of Arizona campus \, and it will feature a wide and exciting variety of exhibits\, author panels\, book signings\, vendors\, and more. As a non-profit event\, the Tucson Festival of Books uses proceeds to improve literacy efforts in Arizona. For many years the festival has had an attendance of over 100\,000 literature lovers\, making it one of the largest book festivals in the United States.
URL:https://carencantrell.com/event/11th-annual-tucson-festival-of-books/
LOCATION:Tucson Book Festival\, on The University of Arizona campus\, Tucson\, AZ\, 85721\, United States
CATEGORIES:Tucson Festival of Books
ATTACH;FMTTYPE=image/jpeg:https://carencantrell.com/wp-content/uploads/2019/01/Payson2017cropped-scaled.jpg
END:VEVENT
BEGIN:VEVENT
DTSTART;TZID=UTC:20190302T093000
DTEND;TZID=UTC:20190302T173000
DTSTAMP:20260423T163631
CREATED:20190109T210503Z
LAST-MODIFIED:20190109T210503Z
UID:829-1551519000-1551547800@carencantrell.com
SUMMARY:Tucson Book Festival
DESCRIPTION:March 2-3\, 2019 — We would love to see you at the eleventh annual Tucson Festival of Books! The festival is open from 9:30am to 5:30pm on The University of Arizona campus \, and it will feature a wide and exciting variety of exhibits\, author panels\, book signings\, vendors\, and more. As a non-profit event\, the Tucson Festival of Books uses proceeds to improve literacy efforts in Arizona. For many years the festival has had an attendance of over 100\,000 literature lovers\, making it one of the largest book festivals in the United States.
URL:https://carencantrell.com/event/tucson-book-festival/
LOCATION:Tucson Book Festival\, on The University of Arizona campus\, Tucson\, AZ\, 85721\, United States
CATEGORIES:Tucson Festival of Books
ATTACH;FMTTYPE=image/jpeg:https://carencantrell.com/wp-content/uploads/2019/01/Tempe-Library-2018-2.jpg
END:VEVENT
BEGIN:VEVENT
DTSTART;TZID=UTC:20190223T130000
DTEND;TZID=UTC:20190223T170000
DTSTAMP:20260423T163631
CREATED:20190109T205421Z
LAST-MODIFIED:20190109T205735Z
UID:821-1550926800-1550941200@carencantrell.com
SUMMARY:Red Mountain Library Local Authors
DESCRIPTION:Event Type: Entertainment\nAge Group(s): Adults\, Teens\, Children\nDate: 2/23/2019\nStart Time: 1:00 PM\nEnd Time: 5:00 PM \nDescription:\n Arizona authors take over the Library. Discover your next great read. Immerse yourself in every kind of literature–mysteries\, science fiction\, thrillers\, Westerns\, even children’s books. Meet our local writers and get inspired. Books will be available for sale and signing by the authors.\nLibrary: Red Mountain Branch    Map\nLocation: Lobby\nContact: Stephanie Foster\nContact Number: 480-644-3253\nPresenter: Local Authors
URL:https://carencantrell.com/event/red-mountain-library-local-authors/
LOCATION:Red Mountain Branch Public Library\, 635 N. Power Rd\, Mesa\, AZ\, 85205\, United States
CATEGORIES:Red Mountain Library Local Authors
ATTACH;FMTTYPE=image/jpeg:https://carencantrell.com/wp-content/uploads/2019/01/Red-Mtn-Visitor-Ctr-2018-1.jpg
END:VEVENT
BEGIN:VEVENT
DTSTART;TZID=UTC:20190202T100000
DTEND;TZID=UTC:20190202T140000
DTSTAMP:20260423T163631
CREATED:20190109T204832Z
LAST-MODIFIED:20190109T204832Z
UID:816-1549101600-1549116000@carencantrell.com
SUMMARY:Scottsdale Library Local Authors 6th Annual Book Sale
DESCRIPTION:Love books? Meet our talented Arizona writers at this amazing book sale. Find a new book to add to your collection. Books for all ages and interests. Be where Arizona authors and readers connect! \n\n\n\n\n\n\nPlease welcome and visit our participating authors: \nJohn Ashby\, Adena Astrowsky\, Zachary Astrowsky\, Connie Austin\, Rico Austin\, Adam Baker\, Elizabeth Barnes\, Nikki Lynn Barrett\, Dave Benneman\, Larry Dane Brimner\, Patricia Brooks\, Brook Brown\, DeAnna Browne\, Susan Budavari\, James Bultema\, Caren Cantrell\, Kristin Anderson Cetone\, Beve Rhyan Cole\, Lois Collins\, Mike Conklin\, Patricia Grady Cox\, Pat Curren\, Kevin Douglas\, Robert Dukelow\, Dianne Freeman\, Howard Gershkowitz\, Earl Goldmann\, Jami Gray\, Sandi Greenberg\, Sheila Grinell\, Carol Hageman\, Tim Hammill\, C.C. Harrison\, Janine Hernandez\, Teresa Irizarry\, Mark Johnson\, Leslie Keller\, Arthur Kerns\, Kitty Kessler\, Joseph Kimble\, Michele Kocour\, Jan Krulick-Belin\, Karen S. Lateiner\, Janice Lipsky\, Paula Marinos\, Liz Marshall\, David Medansky\, Marcy J. Miller\, Sandra Miller\, Barbara Minas\, Margaret Morse\, David Munsey\, S.B. Nace\, Marcus Nannini\, Toni Niesen\, Gayle Noble\, Debra Novotny\, Jon Oleson\, Lisa Farringer Parker\, Sidney Reetz\, Barbara Renner\, Jane Ruby\, Debbie Kellough Sayre\, Vijaya Shartz\, Pam Sears\, Jody Sharpe\, Katrina Shawver\, Kira Shay\, Sandra Rose Simmons\, MaryEllen Smith\, Jennifer Spangler\, Margaret Spence\, Scott E. Sutton\, Sandra Sydell\, Ronald Tobin\, Jerry Toomer\, Neema Uthappa\, Mamta Jain Valderrama\, Megan Vaughn\, Linda Walton\, Steve Weitzenkorn\, Jim West
URL:https://carencantrell.com/event/scottsdale-library-local-authors-6th-annual-book-sale/
LOCATION:Civic Center Library\, 3839 N. Drinkwater Blvd.\, SCottsdale\, AZ\, 85251\, United States
CATEGORIES:Scottsdale Library Local Authors
ATTACH;FMTTYPE=image/jpeg:https://carencantrell.com/wp-content/uploads/2019/01/local-authors-2018.jpg
END:VEVENT
BEGIN:VEVENT
DTSTART;TZID=UTC:20181208T140000
DTEND;TZID=UTC:20181208T200000
DTSTAMP:20260423T163631
CREATED:20181009T212356Z
LAST-MODIFIED:20181009T212356Z
UID:807-1544277600-1544299200@carencantrell.com
SUMMARY:Mesa Book Festival - Saturday\, December 8th
DESCRIPTION:Mesa Book Festival 2018 \nDecember 8th\, 2018 2pm-8pm \nDowntown Mesa\, Macdonald St. between Main and 1st Ave. \n  \nWhat’s the Mission?\nIn keeping with the Anthology.org mission\, we seek to build a world-class book festival and encourage readers of all ages. \n  \nWho’s Invited?\nEveryone! Authors\, Publishers\, and Book Sellers are invited to  register for space to showcase\, promote\, and sell their books. Readers are invited to come and buy their books direct. We’re encouraging a wide variety of literary arts purveyors to share their work to create a bigger audience for everyone. \n  \nWhat’s happening? \n\nEighty-five vendors\, including a diverse offering of books and authors\nFree to the Public\nOpen Mic Poetry\nAuthors\, Presentations and Panels\nA whole lot more!
URL:https://carencantrell.com/event/mesa-book-festival-saturday-december-8th/
LOCATION:AZ
CATEGORIES:Mesa Book Festival
ATTACH;FMTTYPE=image/png:https://carencantrell.com/wp-content/uploads/2018/10/MBF-Website-Logo-3.png
END:VEVENT
BEGIN:VEVENT
DTSTART;TZID=UTC:20181117T090000
DTEND;TZID=UTC:20181117T120000
DTSTAMP:20260423T163631
CREATED:20181025T234015Z
LAST-MODIFIED:20181025T234049Z
UID:811-1542445200-1542456000@carencantrell.com
SUMMARY:North Mountain Visitor Center Authors’ Day
DESCRIPTION:Meet some of Arizona’s most popular Western authors on Saturday\, November 17th\,  from 9 a.m. to noon.\, at The Authors’ Day Festival at  the North Mountain Visitor Center\, 12950 N. 7th St.\, Phoenix\, in the Phoenix Mountain Preserve. \nLocal authors will meet the public and sign their books.  All books will be available for purchase; sales support the Save Our Mountains Foundation.  Event and parking is free. Hiking trails are open. \nParticipants include: \n  \n*******COMING SOON******* \n  \nOperated by the Save Our Mountains Foundation\, Arizona Parks and Recreation Association\, Phoenix Mountains Preservation Council\, Inc.\, and Central Arizona Mountain Rescue Association\, The North Mountain Visitor Center gives guests an up-close and personal tour of the Phoenix Mountain Preserve and the plants and animals that make up the beautiful area surrounding the Center. \n  \nThis is free event\, the books must be purchased in the Center’s Gift Shoppe for the authors to sign. All proceeds from the sale of books benefit the Save Our Mountains Foundation for the operation and programs at the North Mountain Visitor Center. \n  \nStop by North Mountain Visitor Center for more information and a Flyer.
URL:https://carencantrell.com/event/north-mountain-visitor-center-authors-day/
LOCATION:North Mountain Visitor Center\, 12950 North 7th Street\, AZ\, 85022\, United States
CATEGORIES:North Mountain Visitor Center Authors’ Day
ATTACH;FMTTYPE=image/jpeg:https://carencantrell.com/wp-content/uploads/2018/10/Books.jpg
END:VEVENT
BEGIN:VEVENT
DTSTART;TZID=UTC:20181103T100000
DTEND;TZID=UTC:20181103T150000
DTSTAMP:20260423T163631
CREATED:20181009T212142Z
LAST-MODIFIED:20181009T212142Z
UID:803-1541239200-1541257200@carencantrell.com
SUMMARY:Tempe Book Festival - Saturday\, November 3rd
DESCRIPTION:Saturday\, November 3\, 2018\n10:00 a.m. – 3:00 p.m. \nThe Tempe Book Festival is an annual event intended to celebrate reading\, writing\, and a love for books. The festival brings together local authors\, publishers\, booksellers\, and more!
URL:https://carencantrell.com/event/tempe-book-festival-saturday-november-3rd/
LOCATION:AZ
CATEGORIES:Tempe Book Festival
ATTACH;FMTTYPE=image/jpeg:https://carencantrell.com/wp-content/uploads/2018/10/ShowImage-1.jpg
END:VEVENT
BEGIN:VEVENT
DTSTART;TZID=UTC:20180721T090000
DTEND;TZID=UTC:20180721T153000
DTSTAMP:20260423T163631
CREATED:20180524T183726Z
LAST-MODIFIED:20180524T183726Z
UID:795-1532163600-1532187000@carencantrell.com
SUMMARY:Payson Book Festival 2018
DESCRIPTION:The Payson Book Festival is brought to you by the Rim Country District Of Arizona Professional Writers (APW) and Majestic Rim Retirement Living. The mission of the Payson Book Festival is to enhance the love of reading by providing an environment that encourages personal interaction between readers and Arizona authors. Its goal is to promote literacy and showcase Arizona authors. It’s free to attend!
URL:https://carencantrell.com/event/payson-book-festival-2018/
LOCATION:Payson Book Festival\, Mazatzal Hotel and Casino\, Payson\, AZ\, 85541\, United States
CATEGORIES:Payson Book Festival
ATTACH;FMTTYPE=image/jpeg:https://carencantrell.com/wp-content/uploads/2018/05/26850338_10214809807976343_4811268854420347045_o.jpg
END:VEVENT
BEGIN:VEVENT
DTSTART;TZID=UTC:20180310T093000
DTEND;TZID=UTC:20180311T173000
DTSTAMP:20260423T163631
CREATED:20171204T195608Z
LAST-MODIFIED:20171204T195608Z
UID:711-1520674200-1520789400@carencantrell.com
SUMMARY:Tucson Festival of Books
DESCRIPTION:2018 Presenting Authors (A-Z)\nAn alphabetical list (by last name) of authors attending the 2018 Festival. We’re adding authors daily\, check back if you are looking for someone specific who is not yet on this list! More » \n2018 Indie Pavilion Authors (A-Z)\nAn alphabetical list (by last name) of pavilion authors attending the 2018 Festival. More » \nFestival Authors Available for School Visits\nSeveral authors and illustrators make themselves available to local schools as an added benefit of their appearance at the Tucson Festival of Books. Learn who is available and how to apply. More » \nPresenting Authors – Alumni of the Festival\nHave you ever wondered who attended the Festival in the past? Now you can see the list of authors who have made the Tucson Festival of Books a destination for writers and readers alike! The 2018 Author List will be posted on Friday\, November 24. More » \n2018 Book Selection Process\nInterested in participating in the 2018 Festival? Learn more about how publications may be considered for the upcoming Festival. More »
URL:https://carencantrell.com/event/tucson-festival-books/
LOCATION:Tucson Book Festival\, on The University of Arizona campus\, Tucson\, AZ\, 85721\, United States
CATEGORIES:Tucson Festival of Books
ATTACH;FMTTYPE=image/jpeg:https://carencantrell.com/wp-content/uploads/2017/12/21557933_10154217952439567_1062394480578573314_n.jpg
END:VEVENT
BEGIN:VEVENT
DTSTART;TZID=UTC:20171209T140000
DTEND;TZID=UTC:20171209T200000
DTSTAMP:20260423T163631
CREATED:20171204T194747Z
LAST-MODIFIED:20171204T194845Z
UID:706-1512828000-1512849600@carencantrell.com
SUMMARY:Mesa Book Festival
DESCRIPTION:What’s the Mission?\nIn keeping with the Anthology.org mission\, we seek to build a world-class book festival and encourage readers of all ages. \nWho’s Invited?\nEveryone! Authors\, Publishers\, and Book Sellers are invited to  register for space to showcase\, promote\, and sell their books. Readers are invited to come and buy their books direct. We’re encouraging a wide variety of literary arts purveyors to share their work to create a bigger audience for everyone. \nWhat’s happening? \n\nEighty-five vendors\, including a diverse offering of books and authors\nFree to the Public\nOpen Mic Poetry\nAuthors\, Presentations and Panels\nA whole lot more!
URL:https://carencantrell.com/event/mesa-book-festival/
LOCATION:Mesa Book Festival – Downtown Mesa\, Macdonald St. between Main and 1st Ave.\, Mesa\, AZ\, United States
CATEGORIES:Mesa Book Festival
ATTACH;FMTTYPE=image/png:https://carencantrell.com/wp-content/uploads/2017/12/MBF-Website-INVITE.png
END:VEVENT
END:VCALENDAR